BEGIN:VCALENDAR
METHOD:PUBLISH
VERSION:2.0
PRODID:-//WoltLab GmbH//WoltLab Suite Calendar 5.4//EN
CALSCALE:GREGORIAN
X-WR-CALNAME;VALUE=TEXT:\"Sternfahrt\" Flugplatz\, 72119 Poltringen
BEGIN:VEVENT
TRANSP:TRANSPARENT
UID:event-24@w201-ev.de
URL:https://w201-ev.de/forum/calendar/event/2768-sternfahrt-flugplatz-72119
 -poltringen/
DTSTART;VALUE=DATE:20180609
DTSTAMP:20180609T000000Z
CREATED:20180609T000000Z
SUMMARY:\"Sternfahrt\" Flugplatz\, 72119 Poltringen
DESCRIPTION:Hallo Zusammen\;\nunsere kurzfristig aus einer Laune heraus ent
 standene Idee einer Sternfahrt hat sich materialisiert und findet nun am 9.
  Juni ab 11 Uhr auf dem Flugplatz Poltingen (Ammerbuch - grob zwischen Herr
 enberg und Tübingen) statt.\n\n„Sternfahrt“ ist ausdrücklich nicht markenbe
 zogen\, auch wenn auf dem Foto ein gewisser Sternenüberhang unbestreitbar i
 st.\n\nWir hoffen selbstverständlich darauf\, daß uns Petrus wohlgesonnen i
 st - wir haben alle unser Breichen brav aufgegessen. Beim unserem Sonderbea
 uftragten für Wetterfragen (Goldie-Rainer mit den tunis-beigen 108er) haben
  wir diesen Wunsch schon eingereicht - wenn’s schiffen sollte\, wissen wir\
 , wen wir im Fall zur Schnecke machen können.\n\nRainer\, Ioanna und ich fr
 euen uns auf Euer zahlreiches Erscheinen.\n\nPS: Bitte verbreitet das auch 
 weiter.
LOCATION:Poltringen\, 72119 Ammerbuch\, Deutschland
GEO:48.534584;8.9500847
DTEND;VALUE=DATE:20180610
CATEGORIES:Treffen,Sternfahrt
END:VEVENT
END:VCALENDAR
