BEGIN:VCALENDAR
METHOD:PUBLISH
VERSION:2.0
PRODID:-//WoltLab GmbH//WoltLab Suite Calendar 5.4//EN
CALSCALE:GREGORIAN
X-WR-CALNAME;VALUE=TEXT:Stammtisch Mittelhessen
BEGIN:VEVENT
TRANSP:OPAQUE
UID:event-26@w201-ev.de
URL:https://w201-ev.de/forum/calendar/event/2770-stammtisch-mittelhessen/
DTSTART:20181012T163000Z
DTSTAMP:20181012T163000Z
CREATED:20181012T163000Z
SUMMARY:Stammtisch Mittelhessen
DESCRIPTION:Diesmal im Bürgerhaus Kirdorf in Bad Homburg\, mehr dazu im ent
 sprechenden Thread.
DTEND:20181012T203000Z
CATEGORIES:Stammtisch,Mittelhessen,Bad Homburg,Rhein-Main-Gebiet
END:VEVENT
END:VCALENDAR
