BEGIN:VCALENDAR
METHOD:PUBLISH
VERSION:2.0
PRODID:-//WoltLab GmbH//WoltLab Suite Calendar 5.4//EN
CALSCALE:GREGORIAN
X-WR-CALNAME;VALUE=TEXT:33. Oldtimertreffen Hattersheim
BEGIN:VEVENT
TRANSP:TRANSPARENT
UID:event-63@w201-ev.de
URL:https://w201-ev.de/forum/calendar/event/5493-33-oldtimertreffen-hatters
 heim/
DTSTART;VALUE=DATE:20230513
DTSTAMP:20230513T000000Z
CREATED:20230513T000000Z
SUMMARY:33. Oldtimertreffen Hattersheim
DESCRIPTION:Ich bin faul und verlinke: https://taunus.info/veranstaltungska
 lender/musik-und-konzerte/32-klassikertage/11038/
DTEND;VALUE=DATE:20230515
CATEGORIES:Treffen,Scuderia,Lufthansa,Hattersheim,Oldtimertreffen,Klassiker
 tage
END:VEVENT
END:VCALENDAR
